BEGIN:VCALENDAR
VERSION:2.0
PRODID:-//Svenska Kickboxningsförbundet - ECPv6.7.1//NONSGML v1.0//EN
CALSCALE:GREGORIAN
METHOD:PUBLISH
X-ORIGINAL-URL:https://swekickboxing.se
X-WR-CALDESC:Events for Svenska Kickboxningsförbundet
REFRESH-INTERVAL;VALUE=DURATION:PT1H
X-Robots-Tag:noindex
X-PUBLISHED-TTL:PT1H
BEGIN:VTIMEZONE
TZID:Europe/Stockholm
BEGIN:DAYLIGHT
TZOFFSETFROM:+0100
TZOFFSETTO:+0200
TZNAME:CEST
DTSTART:20250330T010000
END:DAYLIGHT
BEGIN:STANDARD
TZOFFSETFROM:+0200
TZOFFSETTO:+0100
TZNAME:CET
DTSTART:20251026T010000
END:STANDARD
END:VTIMEZONE
BEGIN:VEVENT
DTSTART;TZID=Europe/Stockholm:20251024T180000
DTEND;TZID=Europe/Stockholm:20251026T150000
DTSTAMP:20260426T054623
CREATED:20250930T183045Z
LAST-MODIFIED:20250930T183158Z
UID:8183-1761328800-1761490800@swekickboxing.se
SUMMARY:Scandinavian Referee Seminar
DESCRIPTION:Hej klubbar\, ledare och inte minst domare.\n\nScandinavian Referee Seminar | Facebook\nEtt försök har gjorts till kompetenssamarbete över gränserna i Skandinavien.\nDet har redan funnits både fullkontaktträffar\, ungdomsträffar etc. för idrottare och tränare.\n\nDet kommer också att finnas en samling för domare i oktober.\nDenna gång i Köpenhamn\, öppen för alla domare - nya som "gamla". (Deltagaravgift tillkommer)\n\nOm du vill ha en professionell uppdatering\, eller börja som domare\, rekommenderas det att delta i denna. Klubbar uppmuntras särskilt att skicka de domare de vill satsa på - till detta.\n\nDet kommer att finnas ett gemensamt program för tatami och ring. Det specifika kommer att ske separat.\n\nBåde teori och praktisk implementering för deltagarna.\n\nDet är planerat att de olika nivåerna ska tas om hand.\n(nybörjare\, blivande matchledare\, chefsnivå).\n\nAnmäl dig\, eller din domare via e-post till arrangören: info@kickboxing.dk\n\nOm du har några frågor - vänligen kontakta Camilla Jörneheim.\n 
URL:https://swekickboxing.se/kalender/scandinavian-referee-seminar/
LOCATION:Danmark\, Lerumbakken 11\, Nørresundby\,\, 9400\, Denmark
ATTACH;FMTTYPE=image/jpeg:https://swekickboxing.se/wp-content/uploads/2025/09/Wako-referee-camp-DK.jpg
END:VEVENT
END:VCALENDAR