BEGIN:VCALENDAR
VERSION:2.0
PRODID:-//Svenska Kickboxningsförbundet - ECPv6.7.1//NONSGML v1.0//EN
CALSCALE:GREGORIAN
METHOD:PUBLISH
X-ORIGINAL-URL:https://swekickboxing.se
X-WR-CALDESC:Events for Svenska Kickboxningsförbundet
REFRESH-INTERVAL;VALUE=DURATION:PT1H
X-Robots-Tag:noindex
X-PUBLISHED-TTL:PT1H
BEGIN:VTIMEZONE
TZID:Europe/Stockholm
BEGIN:DAYLIGHT
TZOFFSETFROM:+0100
TZOFFSETTO:+0200
TZNAME:CEST
DTSTART:20260329T010000
END:DAYLIGHT
BEGIN:STANDARD
TZOFFSETFROM:+0200
TZOFFSETTO:+0100
TZNAME:CET
DTSTART:20261025T010000
END:STANDARD
END:VTIMEZONE
BEGIN:VEVENT
DTSTART;TZID=Europe/Stockholm:20260131T160000
DTEND;TZID=Europe/Stockholm:20260131T220000
DTSTAMP:20260425T225920
CREATED:20251020T174106Z
LAST-MODIFIED:20251020T175238Z
UID:8237-1769875200-1769896800@swekickboxing.se
SUMMARY:Parken Fight Night ( PRO-gala)
DESCRIPTION:Mer information kommer inom kort..
URL:https://swekickboxing.se/kalender/parken-fight-night-pro-gala/
ATTACH;FMTTYPE=image/png:https://swekickboxing.se/wp-content/uploads/2025/10/Tavling-.png
ORGANIZER;CN="Skurups Kick och Boxningsklubb":MAILTO:bjorn@skbklubb.se
END:VEVENT
END:VCALENDAR