BEGIN:VCALENDAR
VERSION:2.0
PRODID:-//Svenska Kickboxningsförbundet - ECPv6.7.1//NONSGML v1.0//EN
CALSCALE:GREGORIAN
METHOD:PUBLISH
X-WR-CALNAME:Svenska Kickboxningsförbundet
X-ORIGINAL-URL:https://swekickboxing.se
X-WR-CALDESC:Events for Svenska Kickboxningsförbundet
REFRESH-INTERVAL;VALUE=DURATION:PT1H
X-Robots-Tag:noindex
X-PUBLISHED-TTL:PT1H
BEGIN:VTIMEZONE
TZID:Europe/Stockholm
BEGIN:DAYLIGHT
TZOFFSETFROM:+0100
TZOFFSETTO:+0200
TZNAME:CEST
DTSTART:20260329T010000
END:DAYLIGHT
BEGIN:STANDARD
TZOFFSETFROM:+0200
TZOFFSETTO:+0100
TZNAME:CET
DTSTART:20261025T010000
END:STANDARD
END:VTIMEZONE
BEGIN:VEVENT
DTSTART;VALUE=DATE:20260207
DTEND;VALUE=DATE:20260208
DTSTAMP:20260425T225813
CREATED:20251020T173318Z
LAST-MODIFIED:20251020T173612Z
UID:8228-1770422400-1770508799@swekickboxing.se
SUMMARY:Danish Open
DESCRIPTION:Mer information kommer inom kort…\nSET Online Kickboxing: Danish Open 2026
URL:https://swekickboxing.se/kalender/danish-open/
ATTACH;FMTTYPE=image/jpeg:https://swekickboxing.se/wp-content/uploads/2025/10/Danish-Open.jpg
END:VEVENT
BEGIN:VEVENT
DTSTART;TZID=Europe/Stockholm:20260207T080000
DTEND;TZID=Europe/Stockholm:20260207T170000
DTSTAMP:20260425T225813
CREATED:20251020T174201Z
LAST-MODIFIED:20251020T175223Z
UID:8239-1770451200-1770483600@swekickboxing.se
SUMMARY:Fight 92-Kickboxning
DESCRIPTION:Mer information kommer inom kort..
URL:https://swekickboxing.se/kalender/fight-92-kickboxning/
LOCATION:Ängelholms Kickboxningsklubb\, Metallgatan 20\, Ängelholm\, 26272\, Sverige
ATTACH;FMTTYPE=image/png:https://swekickboxing.se/wp-content/uploads/2025/10/Tavling-.png
END:VEVENT
END:VCALENDAR