BEGIN:VCALENDAR
VERSION:2.0
PRODID:-//Svenska Kickboxningsförbundet - ECPv6.7.1//NONSGML v1.0//EN
CALSCALE:GREGORIAN
METHOD:PUBLISH
X-ORIGINAL-URL:https://swekickboxing.se
X-WR-CALDESC:Events for Svenska Kickboxningsförbundet
REFRESH-INTERVAL;VALUE=DURATION:PT1H
X-Robots-Tag:noindex
X-PUBLISHED-TTL:PT1H
BEGIN:VTIMEZONE
TZID:Europe/Stockholm
BEGIN:DAYLIGHT
TZOFFSETFROM:+0100
TZOFFSETTO:+0200
TZNAME:CEST
DTSTART:20260329T010000
END:DAYLIGHT
BEGIN:STANDARD
TZOFFSETFROM:+0200
TZOFFSETTO:+0100
TZNAME:CET
DTSTART:20261025T010000
END:STANDARD
END:VTIMEZONE
BEGIN:VEVENT
DTSTART;TZID=Europe/Stockholm:20260307T080000
DTEND;TZID=Europe/Stockholm:20260307T170000
DTSTAMP:20260425T211545
CREATED:20251020T174437Z
LAST-MODIFIED:20260224T134751Z
UID:8241-1772870400-1772902800@swekickboxing.se
SUMMARY:Skurup Brawl 15
DESCRIPTION:Välkomna till Skurups Kick & Boxningsklubbs tävling Skurup Brawl 15 den 7 mars 2026.\nDiscipliner: KL\, JLK\, JK1\, LK\, K1\, KLB och KLU\nTurnering och enskilda matcher.\nInvägning: 09:00-10:30\nCoachmöte: 11:00\nPublikinsläpp: 11:00\nMatchstart: 11.30\nSista anmälningsdag: 1/3 kl 18.00\nAnmälningsavgift för tävlande: 300kr \nLänk till anämlan  SET Online Kickboxing: Skurup Brawl 15 \n\nGällande K1/LK så har vi valt att införa A\, B och C kriterier.\nK1/LK  16-18 år\nC= 0-3\nB= 4-8\nA= +9  OBS! Matcherna går med skydd \nK1/LK  +18 år\nC= 0-5\nB= 6-10\nA= +11  OBS! Matcherna går med skydd \n\nGratis inträde för barn/ungdomar upp till 14 år.\nInträde 100kr. (Swish)\nKiosk finns med kaffe\, vatten\, proteinbars\, frukt.\nProfil i RSportz och tävlingskort kontrolleras vid invägningen.\nTävlingen kommer livestreamas via Youtube:\nhttps://youtube.com/@skurupskickboxningsklubb…\nPoängdomarkrav för deltagande förening och 500kr i sanktionsavgift om man inte uppfyller kravet.\nSK&BK ombesörjer tävlingsskydd(hjälm\, benskydd\, fotskor och handskar.\nGlöm inte tandskydd\, suspensoar och för tjejer bröstskydd (även junior KL)\nFinns gratis parkering utanför lokalen.\nVid frågor maila: bjorn@skbklubb.se\nVi ser fram emot en spännande tävlingsdag
URL:https://swekickboxing.se/kalender/skurup-brawl-15-2/
LOCATION:Skurups Kick och Boxningsklubb\, Norra Industrigatan 5\, Skurup\, 27430\, Sverige
ATTACH;FMTTYPE=image/jpeg:https://swekickboxing.se/wp-content/uploads/2025/10/634208572_1524441902460522_780189672780069521_n.jpg
ORGANIZER;CN="Skurups Kick och Boxningsklubb":MAILTO:bjorn@skbklubb.se
END:VEVENT
END:VCALENDAR