BEGIN:VCALENDAR
VERSION:2.0
PRODID:-//Svenska Kickboxningsförbundet - ECPv6.7.1//NONSGML v1.0//EN
CALSCALE:GREGORIAN
METHOD:PUBLISH
X-ORIGINAL-URL:https://swekickboxing.se
X-WR-CALDESC:Events for Svenska Kickboxningsförbundet
REFRESH-INTERVAL;VALUE=DURATION:PT1H
X-Robots-Tag:noindex
X-PUBLISHED-TTL:PT1H
BEGIN:VTIMEZONE
TZID:Europe/Stockholm
BEGIN:DAYLIGHT
TZOFFSETFROM:+0100
TZOFFSETTO:+0200
TZNAME:CEST
DTSTART:20260329T010000
END:DAYLIGHT
BEGIN:STANDARD
TZOFFSETFROM:+0200
TZOFFSETTO:+0100
TZNAME:CET
DTSTART:20261025T010000
END:STANDARD
END:VTIMEZONE
BEGIN:VEVENT
DTSTART;VALUE=DATE:20260207
DTEND;VALUE=DATE:20260208
DTSTAMP:20260426T020118
CREATED:20251020T173318Z
LAST-MODIFIED:20251020T173612Z
UID:8228-1770422400-1770508799@swekickboxing.se
SUMMARY:Danish Open
DESCRIPTION:Mer information kommer inom kort…\nSET Online Kickboxing: Danish Open 2026
URL:https://swekickboxing.se/kalender/danish-open/
ATTACH;FMTTYPE=image/jpeg:https://swekickboxing.se/wp-content/uploads/2025/10/Danish-Open.jpg
END:VEVENT
BEGIN:VEVENT
DTSTART;TZID=Europe/Stockholm:20260207T080000
DTEND;TZID=Europe/Stockholm:20260207T170000
DTSTAMP:20260426T020118
CREATED:20251020T174201Z
LAST-MODIFIED:20251020T175223Z
UID:8239-1770451200-1770483600@swekickboxing.se
SUMMARY:Fight 92-Kickboxning
DESCRIPTION:Mer information kommer inom kort..
URL:https://swekickboxing.se/kalender/fight-92-kickboxning/
LOCATION:Ängelholms Kickboxningsklubb\, Metallgatan 20\, Ängelholm\, 26272\, Sverige
ATTACH;FMTTYPE=image/png:https://swekickboxing.se/wp-content/uploads/2025/10/Tavling-.png
END:VEVENT
BEGIN:VEVENT
DTSTART;TZID=Europe/Stockholm:20260307T080000
DTEND;TZID=Europe/Stockholm:20260307T170000
DTSTAMP:20260426T020118
CREATED:20251020T174437Z
LAST-MODIFIED:20260224T134751Z
UID:8241-1772870400-1772902800@swekickboxing.se
SUMMARY:Skurup Brawl 15
DESCRIPTION:Välkomna till Skurups Kick & Boxningsklubbs tävling Skurup Brawl 15 den 7 mars 2026.\nDiscipliner: KL\, JLK\, JK1\, LK\, K1\, KLB och KLU\nTurnering och enskilda matcher.\nInvägning: 09:00-10:30\nCoachmöte: 11:00\nPublikinsläpp: 11:00\nMatchstart: 11.30\nSista anmälningsdag: 1/3 kl 18.00\nAnmälningsavgift för tävlande: 300kr \nLänk till anämlan  SET Online Kickboxing: Skurup Brawl 15 \n\nGällande K1/LK så har vi valt att införa A\, B och C kriterier.\nK1/LK  16-18 år\nC= 0-3\nB= 4-8\nA= +9  OBS! Matcherna går med skydd \nK1/LK  +18 år\nC= 0-5\nB= 6-10\nA= +11  OBS! Matcherna går med skydd \n\nGratis inträde för barn/ungdomar upp till 14 år.\nInträde 100kr. (Swish)\nKiosk finns med kaffe\, vatten\, proteinbars\, frukt.\nProfil i RSportz och tävlingskort kontrolleras vid invägningen.\nTävlingen kommer livestreamas via Youtube:\nhttps://youtube.com/@skurupskickboxningsklubb…\nPoängdomarkrav för deltagande förening och 500kr i sanktionsavgift om man inte uppfyller kravet.\nSK&BK ombesörjer tävlingsskydd(hjälm\, benskydd\, fotskor och handskar.\nGlöm inte tandskydd\, suspensoar och för tjejer bröstskydd (även junior KL)\nFinns gratis parkering utanför lokalen.\nVid frågor maila: bjorn@skbklubb.se\nVi ser fram emot en spännande tävlingsdag
URL:https://swekickboxing.se/kalender/skurup-brawl-15-2/
LOCATION:Skurups Kick och Boxningsklubb\, Norra Industrigatan 5\, Skurup\, 27430\, Sverige
ATTACH;FMTTYPE=image/jpeg:https://swekickboxing.se/wp-content/uploads/2025/10/634208572_1524441902460522_780189672780069521_n.jpg
ORGANIZER;CN="Skurups Kick och Boxningsklubb":MAILTO:bjorn@skbklubb.se
END:VEVENT
BEGIN:VEVENT
DTSTART;TZID=Europe/Stockholm:20260310T080000
DTEND;TZID=Europe/Stockholm:20260315T190000
DTSTAMP:20260426T020118
CREATED:20260224T134347Z
LAST-MODIFIED:20260224T134403Z
UID:8299-1773129600-1773601200@swekickboxing.se
SUMMARY:Italian Kickboxing World Cup
DESCRIPTION:Flertal fighters från olika klubbar planerar redan att delta.\nTa du också chansen \nLänk till anmälan  WAKO World Cups: WAKO WORLD CUP ITALY 2026
URL:https://swekickboxing.se/kalender/italian-kickboxing-world-cup/
LOCATION:Jesolo\, Italien
ATTACH;FMTTYPE=image/png:https://swekickboxing.se/wp-content/uploads/2026/02/Italien-world-cup-.png
END:VEVENT
BEGIN:VEVENT
DTSTART;TZID=Europe/Stockholm:20260314T123000
DTEND;TZID=Europe/Stockholm:20260314T150000
DTSTAMP:20260426T020118
CREATED:20260306T194626Z
LAST-MODIFIED:20260306T194626Z
UID:8336-1773491400-1773500400@swekickboxing.se
SUMMARY:POÄNGDOMARUTBILDNING 14/3 GÖTEBORG
DESCRIPTION:Inbjudan till POÄNGDOMARUTBILDNING i Göteborg den 14 mars kl.12\,30-15\,00. Passa på att döma era första matcher på Rookie Rumble som arrangeras den 21 mars i Göteborg av Göteborgs Kickboxningsklubb. \nVid anmälan så använd bifogad fil – sista anmälan är den 10 mars. \nEv. frågor så maila \n  \n_Inbjudan_Poängdomarutbildning_260314 (1)
URL:https://swekickboxing.se/kalender/poangdomarutbildning-14-3-goteborg/
LOCATION:Göteborgs Kickboxningsklubb\, Södra Gubberogatan 8\, Göteborg\, Sverige
END:VEVENT
BEGIN:VEVENT
DTSTART;TZID=Europe/Stockholm:20260321T080000
DTEND;TZID=Europe/Stockholm:20260321T170000
DTSTAMP:20260426T020118
CREATED:20260224T133451Z
LAST-MODIFIED:20260224T134721Z
UID:8295-1774080000-1774112400@swekickboxing.se
SUMMARY:Rookie Rumble 2026
DESCRIPTION:Information Rookie Rumble 2026 \nDet är dags för Rookie Rumble.\nInför årets upplaga har vi uppdaterat reglerna för nybörjarklassen. Syftet är att göra kriterierna helt tydliga för alla deltagare och undvika eventuella oklarheter eller diskussioner kring vem som räknas som nybörjare. \nVi har landat i att ett lågt antal matcher historiskt är en rättvis och objektiv grund\, istället för att bedöma rörelsemönster eller stil\, vilket kan vara mycket subjektivt. \nVi återinför även superfights. Rookie är i första hand en nybörjartävling\, men vi kommer att välja ut och fylla upp med superfights i mån av plats. \nObservera att vi tyvärr inte kan garantera match trots anmälan till superfights. \nVi ser fram emot en fantastisk tävlingsdag. Välkomna med er anmälan!\nPlats: Hammarkullehallen 21/3 2026\nAdress: Hammarkullegatan 15\, 424 37 Angered\nTider: Tid för invägning: 08-09\nMatchstart: 11:30\nAnmälningsavgift: 300kr \nAnmälnings länk till evenemanget SET Online Kickboxing: Rookie Rumble 2026 – Sweden \nRegler Nybörjare i KL (Kick light) Max 3 matcher i stående fighting oavsett kampsport.\nFullkontakt (LK/K1) Max 2 matcher fullkontakt i stående fighting oavsett kampsport. Erfarenhet i KL eller liknande lightkontakt är obegränsad. (Anmäls i klass C i sportdata) \n\nAnmäl i sportdata:\nKick Light\n0-3 = BEG\n4+ = Superfights finns ingen begränsning i erfarenhet. \nGällande K1/LK så har vi valt att införa A\, B och C kriterier.\nK1/LK\nC= 0-2\nB= 3-8 (Super fight)\nA= +8 matcher (Super fight)\nRookie är i första hand en nybörjartävling men vi kommer fylla på med superfights i mån av plats. Vi kan helt enkelt inte garantera match trots anmälan. \nDisclipliner samt ronder:\nK1/LK/Junior= 3x2min\nKL (1-3 tävlande)= 3x2min  KL (Fler än 3 tävlande)= 2x2min (Grundomgång) 3x2min (Match 3:e pris samt final)\nKLU= 3x2min (1-3 tävlande)= 3x2min  KLU= (Fler än 3 tävlande)= 2x2min (Grundomgång) 3x2min (Match 3:e pris samt final) \nKLB= 3×1\,5min KLB= (Fler än 3 tävlande)= 2×1\,5min (Grundomgång) 3×1\,5min (Match 3:e pris samt final) \nUtvalda superfights K1/KL/KL: 3x2m . \nK1 = K1-style (Åldersgräns från 18år och äldre)\nLK = Low Kick (Åldersgräns från 18år och äldre)\nK1J = K1 Junior (Åldersgräns 16-17år)\nLKJ = Low Kick Junior (Åldersgräns 16-17år)\nKL = Kick-Light (Åldersgräns från 15år och äldre)\nKLU = Kick Light Ungdom (Åldersgräns 11-14år)\nKLB = Kick Light Barn (Åldersgräns 7-10år) \n\nCoacher och poängdomare Innan anmälningstiden gått ut ska ni ha skickat oss ett mail med namn på coacher och poängdomare till rookierumble@goteborgskickboxning.se\n◇ 2 coacher och 2 poängdomare går in gratis.\n◇ Vi skickar betalinstruktioner för era fighters när fightcard är klart via mail till er.\n◇Invänta bekräftelse från oss via mail innan betalning.\nBetalning av anmälningsavgift Efter anmälans slut sätter vi ihop fightcard. Så fort detta är satt mailar vi ut till alla klubbar. Startavgiften ska sättas in KLUBBVIS på PG 480921-6 senast 2026-03-17.\n◇Märk betalningen med ”RR KLUBBNAMN”.
URL:https://swekickboxing.se/kalender/rookie-rumble-2026/
LOCATION:Göteborgs Kickboxningsklubb\, Södra Gubberogatan 8\, Göteborg\, Sverige
ATTACH;FMTTYPE=image/jpeg:https://swekickboxing.se/wp-content/uploads/2026/02/d5be914b-5174-42de-b604-979b0bd3a892.jpeg
ORGANIZER;CN="G%C3%B6teborgs Kickboxningsklubb":MAILTO:info@goteborgskickboxning.se
END:VEVENT
BEGIN:VEVENT
DTSTART;VALUE=DATE:20260327
DTEND;VALUE=DATE:20260330
DTSTAMP:20260426T020118
CREATED:20251020T173439Z
LAST-MODIFIED:20251020T173641Z
UID:8231-1774569600-1774828799@swekickboxing.se
SUMMARY:Yokoso Open Amsterdam
DESCRIPTION:Mer information kommer inom kort.. \nSET Online Kickboxing: Yokoso Dutch Open 2026
URL:https://swekickboxing.se/kalender/yokoso-open-amsterdam/
ATTACH;FMTTYPE=image/jpeg:https://swekickboxing.se/wp-content/uploads/2025/10/Yokoso-Open.jpg
END:VEVENT
BEGIN:VEVENT
DTSTART;TZID=Europe/Stockholm:20260411T080000
DTEND;TZID=Europe/Stockholm:20260411T170000
DTSTAMP:20260426T020118
CREATED:20251020T174531Z
LAST-MODIFIED:20251020T175149Z
UID:8243-1775894400-1775926800@swekickboxing.se
SUMMARY:Fight 93- Kickboxning
DESCRIPTION:Mer information kommer inom kort..
URL:https://swekickboxing.se/kalender/fight-93-kickboxning/
LOCATION:Ängelholms Kickboxningsklubb\, Metallgatan 20\, Ängelholm\, 26272\, Sverige
ATTACH;FMTTYPE=image/png:https://swekickboxing.se/wp-content/uploads/2025/10/Tavling-.png
END:VEVENT
BEGIN:VEVENT
DTSTART;TZID=Europe/Stockholm:20260425T080000
DTEND;TZID=Europe/Stockholm:20260425T170000
DTSTAMP:20260426T020118
CREATED:20260224T134657Z
LAST-MODIFIED:20260224T134657Z
UID:8303-1777104000-1777136400@swekickboxing.se
SUMMARY:Grästorps Vårfight # 3
DESCRIPTION:K1\, Low Kick\, K1 Junior\, Low Kick Junior\, Kick Light\,Kick Light Barn / Ungdom \nDatum:                      2026-04-25\nTävlingsnamn:          Grästorps Vårfight #3 \nTider för invägning:   08:00-10:00 \nCoachmöte:              11:00 \nMatchstart:                11:30 \nSista anmälan:          2026-04-18  kl 12:00 \nAdress:                      Södergatan 32\, Grästorp \nTävlingsavgift:           350:- per tävlande \nBetalningsvillkor:       Swish eller kontant vid entré \nEntréavgift övriga:     50:- (Swish vid entré) \nBarn t o m 12 år går in gratis i vuxens sällskap \nLänk till anmälan SET Online Kickboxing: Grästorps Vårfight #3 \nArrangörsklubb:        Grästorps Kampsportsförening \nKontaktperson:         Torbjörn Dalstrand \nTelefon:                     0730 489480 \nE-post:                      torbjorn@grastorpkampsport.se \nHemsida:                  www.grastorpkampsport.se \nFacebook:                Grästorp Kampsport \n** Poängdomarkrav **\nSKF-anslutna klubbar skall anmäla minst 1 domare som skall närvara under hela arrangemanget\nUppfylls inte domarkravet så utgår det en avgift på 500 kr \nDiscipliner och anmälan i sportdata\nFör att matchningen ska bli så rättvis som möjligt gäller följande discipliner vid anmälan\, beträffande erfarenhet: \nKick Light\nAvser antal matcher i stående fighting oavsett kampsport.\n0-5 matcher = BEG\n+5 matcher = Ingen begränsning i erfarenhet. \nK1/LK \nA\, B och C-klass avser antal matcher i förhöjd kontaktgrad/fullkontakt i stående fighting oavsett kampsport. OBS! Amatörregelverk (med skydd) gäller i samtliga klasser.\nK1J/LKJ\nC= 0-3 matcher\nB= 4-8 matcher\nA= +8 Ingen begränsning i erfarenhet. \nK1/LK\nC= 0-5 matcher\nB= 6-10 matcher\nA= +10 Ingen begränsning i erfarenhet. \nK1 = K1-style (Åldersgräns från 18år och äldre)\nLK = Low Kick (Åldersgräns från 18år och äldre)\nK1J = K1 Junior (Åldersgräns 16-17år)\nLKJ = Low Kick Junior (Åldersgräns 16-17år)\nKL = Kick-Light (Åldersgräns från 15år och äldre)\nKLU = Kick Light Ungdom (Åldersgräns 11-14år)\nKLB = Kick Light Barn (Åldersgräns 7-10år)\n________________________________________\nCoacher och poängdomare:\nI samband med anmälan ska ett mail med namn på coacher och poängdomare skickas till: torbjorn@grastorpkampsport.se\n2 coacher och 2 poängdomare går in gratis. \nÖvrig information: \nVi kommer i första hand ha förutbestämda matcher utifrån tävlingserfarenhet\, men även turneringar kan köras beroende på antal anmälda och om record stämmer överens.\nMatchning kommer att ske dagarna efter sista anmälan och besked om fight samt preliminärt matchkort kommer skickas till respektive klubb senast den 20/4\nFör avanmälningar som sker efter 20/4 återbetalas EJ anmälningsavgiften (350:-) Dvs resp. klubb betalar för det antal fighters de hade anmälda fram till den 20/4 (undantag vid sjukdom /skada om läkarintyg kan uppvisas)\nAlla matcher går i ring.
URL:https://swekickboxing.se/kalender/grastorps-varfight-3/
LOCATION:Grästorps Kampsportsförening\, Södergatan 37\, Grästorp\, 46730\, Sverige
ATTACH;FMTTYPE=image/png:https://swekickboxing.se/wp-content/uploads/2026/02/Varfight-3.png
ORGANIZER;CN="Gr%C3%A4storps Kampsportsf%C3%B6rening":MAILTO:info@grastorpkampsport.se
END:VEVENT
BEGIN:VEVENT
DTSTART;TZID=Europe/Stockholm:20260425T110000
DTEND;TZID=Europe/Stockholm:20260426T143000
DTSTAMP:20260426T020118
CREATED:20260227T141542Z
LAST-MODIFIED:20260227T141542Z
UID:8313-1777114800-1777213800@swekickboxing.se
SUMMARY:4th Scandinavian Youth Camp
DESCRIPTION:4th Scandinavian Youth Camp \nSwedish kickboxing federation invites you all to the 4th WAKO Scandinavian Youth Camp\, a cooperation between the Norweigan\, Danish and Swedish federations. \nPlease be aware that we are only reserving 60 spots for this camp with the all inclusive package. The venue is the beautiful Bosön\, an island in Stockholm. It’s the swedish home of elite sport and sports science. The hotelrooms are 4 bed with linen and everything included. The restaurant and the training fascilities are within walking distance along with the hotelrooms. \nWe have gathered some extremely talented coaches and fighters to educate our youngsters even more\, please see some information about them in the attached images. \nPlease see the attached files for information\, any questions will be answered on coach@swekickboxing.se\, \nSign up for the event with an email to coach@swekickboxing.se\, we will acknowledge your confirmation with a returnmail with billing details. Your participation is guaranteed when the fee is paid. \nWe welcome our neighbours along with our swedish fighters to join us on this weekend of getting to know new friends\, great fighting and hopefully a memory for life.
URL:https://swekickboxing.se/kalender/4th-scandinavian-youth-camp/
ATTACH;FMTTYPE=image/png:https://swekickboxing.se/wp-content/uploads/2026/02/camp.png
END:VEVENT
END:VCALENDAR