BEGIN:VCALENDAR
VERSION:2.0
PRODID:-//Svenska Kickboxningsförbundet - ECPv6.7.1//NONSGML v1.0//EN
CALSCALE:GREGORIAN
METHOD:PUBLISH
X-WR-CALNAME:Svenska Kickboxningsförbundet
X-ORIGINAL-URL:https://swekickboxing.se
X-WR-CALDESC:Events for Svenska Kickboxningsförbundet
REFRESH-INTERVAL;VALUE=DURATION:PT1H
X-Robots-Tag:noindex
X-PUBLISHED-TTL:PT1H
BEGIN:VTIMEZONE
TZID:Europe/Stockholm
BEGIN:DAYLIGHT
TZOFFSETFROM:+0100
TZOFFSETTO:+0200
TZNAME:CEST
DTSTART:20240331T010000
END:DAYLIGHT
BEGIN:STANDARD
TZOFFSETFROM:+0200
TZOFFSETTO:+0100
TZNAME:CET
DTSTART:20241027T010000
END:STANDARD
BEGIN:DAYLIGHT
TZOFFSETFROM:+0100
TZOFFSETTO:+0200
TZNAME:CEST
DTSTART:20250330T010000
END:DAYLIGHT
BEGIN:STANDARD
TZOFFSETFROM:+0200
TZOFFSETTO:+0100
TZNAME:CET
DTSTART:20251026T010000
END:STANDARD
END:VTIMEZONE
BEGIN:VEVENT
DTSTART;TZID=Europe/Stockholm:20250531T080000
DTEND;TZID=Europe/Stockholm:20250531T170000
DTSTAMP:20260426T045936
CREATED:20250314T200914Z
LAST-MODIFIED:20250419T103606Z
UID:8064-1748678400-1748710800@swekickboxing.se
SUMMARY:Basement Battle 7
DESCRIPTION:Tävlingsnamn:\nBasement Battle 7\n\n\nTyp av tävling:\nK1\, Low Kick (LK)\, Kick Light (KL)\, Kick Light Ungdom\, Kick Light Barn\n\n\nDatum:\n31/5 2025\n\n\nTider för invägning:\n8:00 – 9:30\n\n\nCoachmöte:\n10:30\n\n\nMatchstart:\n11:30\n\n\nSista anmälan:\n21/5 2025\n\n\n\nTävlingsinbjudan_Basement Battle_250531
URL:https://swekickboxing.se/kalender/basement-battle-7/
LOCATION:Fighter Centre IF\, Viktoriagatan 19\, Göteborg\, Göteborg\, 41125\, Sverige
ATTACH;FMTTYPE=image/jpeg:https://swekickboxing.se/wp-content/uploads/2025/03/491932055_669652319094404_6491755696050670442_n.jpg
END:VEVENT
BEGIN:VEVENT
DTSTART;TZID=Europe/Stockholm:20250517T080000
DTEND;TZID=Europe/Stockholm:20250517T233000
DTSTAMP:20260426T045936
CREATED:20250223T185335Z
LAST-MODIFIED:20250419T103319Z
UID:8037-1747468800-1747524600@swekickboxing.se
SUMMARY:Svenska Mästerskapet 2025
DESCRIPTION:Svenska Mästerskapet 2025 kommer arrangeras den 17 maj i Skurup och arrangör är Skurups Kick och Boxningsklubb..\n\n\nSM-KRAV 2025\n\n\nK1 eller Low Kick (LK): För att ställa upp i K1 eller Low Kick skall den tävlande ha genomfört minst 2 matcher och dessa 2 matcher skall vara fördelande på 2 olika tävlingar från SM till SM..\n\n\nKick Light (KL):\n\n\nFör att ställa upp i Kick Light skall den tävlande ha genomfört minst 3 matcher och dessa 3 matcher skall vara fördelande på 3 olika tävlingar från SM till SM..\n\n\nAlla WAKO-tävlingar som är med i deras tävlingskalender är godkänd som SM-kvalmatch (förutsatt att matchen/matcherna har varit från SM till SM).\n\n\nwww.kickboxingeurope.com\n\n\nUndantag från WAKO:s tävlingskalender är följande:\n\n\n\n· Danish Open (Danmark) som också ger SM-kval. \n  \n\n\n\nTävlingsnamn:\nSvenska Mästerskapet 2025\n\n\nTyp av tävling:\nK-1\, LOW KICK (LK)\, KICK LIGHT (KL)\n\n\nDatum:\n2025-05-17\n\n\nTider för invägning:\n2025-05-16 kl 18.00-21.00 och 2025-05-17 kl 07.00-08.30\n\n\nCoachmöte:\n2025-05-17 kl 10.00\n\n\nMatchstart:\n2025-05-17 kl 11.00\n\n\nSista anmälan:\n2025-05-04 kl 17.00\n\n\n\nInbjudan Svenska Mästerskapet_250517
URL:https://swekickboxing.se/kalender/svenska-masterskapet-2025/
LOCATION:Skurups Kick och Boxningsklubb\, Norra Industrigatan 5\, Skurup\, 27430\, Sverige
ATTACH;FMTTYPE=image/jpeg:https://swekickboxing.se/wp-content/uploads/2025/02/Affisch.jpg
ORGANIZER;CN="Skurups Kick och Boxningsklubb":MAILTO:bjorn@skbklubb.se
END:VEVENT
BEGIN:VEVENT
DTSTART;TZID=Europe/Stockholm:20250504T090000
DTEND;TZID=Europe/Stockholm:20250504T170000
DTSTAMP:20260426T045936
CREATED:20250419T102538Z
LAST-MODIFIED:20250419T103022Z
UID:8130-1746349200-1746378000@swekickboxing.se
SUMMARY:Skurup Brawl 15
DESCRIPTION:Tävlingsnamn:\nSKURUP BRAWL 15\n\n\nTyp av tävling:\nK1/LK\n\n\nDatum:\n2025-05-04\n\n\nTider för invägning:\n09.00-10.30\n\n\nCoachmöte:\n10.45\n\n\nMatchstart:\n11.00\n\n\nSista anmälan:\n2025-04-27\, 16:00\n\n\n\n250504_Skurup Brawl 15_Tävlingsinbjudan
URL:https://swekickboxing.se/kalender/skurup-brawl-15/
LOCATION:Skurups Kick och Boxningsklubb\, Norra Industrigatan 5\, Skurup\, 27430\, Sverige
ORGANIZER;CN="Skurups Kick och Boxningsklubb":MAILTO:terriern.ljungdahl@yahoo.se
END:VEVENT
BEGIN:VEVENT
DTSTART;TZID=Europe/Stockholm:20250426T080000
DTEND;TZID=Europe/Stockholm:20250426T170000
DTSTAMP:20260426T045936
CREATED:20250223T184333Z
LAST-MODIFIED:20250314T195532Z
UID:8030-1745654400-1745686800@swekickboxing.se
SUMMARY:Master Rising #5
DESCRIPTION:Tävlingsnamn:\nMasters Rising #5\n\n\nTyp av tävling:\nK1\, LK\, KL\, K1 Junior\, LK Junior\, KL Ungdom\, LC Ungdom\, KL barn\, LC barn\n\n\nDatum:\n2025-04-26\n\n\nTider för invägning:\n08.00-10.00\n\n\nCoachmöte:\n10.30\n\n\nMatchstart:\n11.00\n\n\nSista anmälan:\n2025-04-22 23:59:59\n\n\n\n250426_Tävlingsinbjudan_Master Rising 5
URL:https://swekickboxing.se/kalender/master-rising-5/
LOCATION:Masters Gym\, Norra Agnegatan 36\, Stockholm\, 11229\, Sverige
ATTACH;FMTTYPE=image/jpeg:https://swekickboxing.se/wp-content/uploads/2025/02/483298830_18359629798127440_956786056076422617_n.jpg
ORGANIZER;CN="Masters Gym":MAILTO:tavling@mastersgym.se
END:VEVENT
BEGIN:VEVENT
DTSTART;TZID=Europe/Stockholm:20250412T080000
DTEND;TZID=Europe/Stockholm:20250412T170000
DTSTAMP:20260426T045936
CREATED:20241028T175602Z
LAST-MODIFIED:20250314T200557Z
UID:7886-1744444800-1744477200@swekickboxing.se
SUMMARY:Fight 91-Kickboxning
DESCRIPTION:Tävlingsnamn:\nFIGHT 91-KICKBOXNING\n\n\nTyp av tävling:\nK1\, LOW KICK (LK)\, KICK LIGHT (KL)\, KICK LIGHT UNGDOM (KLU)\n\n\n\nKICK LIGHT BARN (KLB)\n\n\n\nDatum:\n2025-04-12\n\n\nTider för invägning:\n07\,45-09\,15\n\n\nCoachmöte:\n10\,45\n\n\nMatchstart:\n11\,00\n\n\nSista anmälan:\n2025-04-05  kl.16.00\n\n\n\nFight91-Kickboxning_Inbjudan_250412 \nFight91-Kickboxning_Affisch_250412
URL:https://swekickboxing.se/kalender/fight-91-kickboxning/
LOCATION:Fight Club Ängelholm\, Metallgatan 10\, Ängeleholm\, 26272\, Sverige
ATTACH;FMTTYPE=application/pdf:https://swekickboxing.se/wp-content/uploads/2024/10/Fight91-Kickboxning_Affisch_250412-1.pdf
ORGANIZER;CN="Fight Club %C3%84ngelholm":MAILTO:info@fightclub-angelholm.se
END:VEVENT
BEGIN:VEVENT
DTSTART;TZID=Europe/Stockholm:20250405T080000
DTEND;TZID=Europe/Stockholm:20250405T170000
DTSTAMP:20260426T045936
CREATED:20250223T184453Z
LAST-MODIFIED:20250314T200054Z
UID:8032-1743840000-1743872400@swekickboxing.se
SUMMARY:Fighters Open 8
DESCRIPTION:Tävlingsnamn:\nFighters Open 8\n\n\nTyp av tävling:\nK1\, LK\, KL\, JK\n\n\nDatum:\n2025-04-05\n\n\nTider för invägning:\n09:00-10:30\n\n\nCoachmöte:\n11:45\n\n\nMatchstart:\n12:00\n\n\nSista anmälan:\n2025-03-29\n\n\n\n250405_Tävlingsinbjudan FighterOpen 8
URL:https://swekickboxing.se/kalender/fighters-open-8/
LOCATION:Stockholms Kickboxningsklubb\, Gästrikegatan 11\, Stockholm\, Stockholm\, 11323
ORGANIZER;CN="Stockholms Kickboxningsklubb":MAILTO:info@kickboxning.se
END:VEVENT
BEGIN:VEVENT
DTSTART;TZID=Europe/Stockholm:20250405T080000
DTEND;TZID=Europe/Stockholm:20250405T170000
DTSTAMP:20260426T045936
CREATED:20250212T190708Z
LAST-MODIFIED:20250223T183225Z
UID:8013-1743840000-1743872400@swekickboxing.se
SUMMARY:Grästorps Vårfight #2
DESCRIPTION:Tävlingsnamn:\nGrästorps Vårfight #2\n\n\nTyp av tävling:\nK1\, Low Kick\, K1 Junior\, Low Kick Junior\, Full Contact\, Kick Light\, Light Contact\,\nKick Light Barn / Ungdom\, Light Contact Barn / Ungdom\n\n\nDatum:\n2025-04-05\n\n\nTider för invägning:\n08:00-09:30\n\n\nCoachmöte:\n11:00\n\n\nMatchstart:\n11:30\n\n\nSista anmälan:\n2025-03-28  kl.23:59\n\n\n\nTävlingsinbjudan Grästorps Vårfight #2 250405
URL:https://swekickboxing.se/kalender/grastorps-varfight-2/
LOCATION:Grästorps Kampsportsförening\, Södergatan 37\, Grästorp\, 46730\, Sverige
ATTACH;FMTTYPE=image/png:https://swekickboxing.se/wp-content/uploads/2025/02/Grastorps-Varfight-.png
ORGANIZER;CN="Gr%C3%A4storps Kampsportsf%C3%B6rening":MAILTO:info@grastorpkampsport.se
END:VEVENT
BEGIN:VEVENT
DTSTART;TZID=Europe/Stockholm:20250329T110000
DTEND;TZID=Europe/Stockholm:20250329T160000
DTSTAMP:20260426T045936
CREATED:20250212T184805Z
LAST-MODIFIED:20250223T183910Z
UID:8005-1743246000-1743264000@swekickboxing.se
SUMMARY:Ringdomarutbildning Göteborg
DESCRIPTION:Då var det åter dags att anordna en ringdomarutbildning i kickboxning. \nAtt vara ringdomare inom svensk kickboxning är ett ansvarsfyllt uppdrag som både kräver mod och förmåga att ta snabba beslut. Aspiranten måste vara mentalt & fysiskt mogen för detta uppdrag så därför finns det vissa krav som aspiranten bör uppfylla. \nLäs mer i den bifogade filen \nRingdomarutbildning_250329 
URL:https://swekickboxing.se/kalender/ringdomarutbildning-goteborg/
LOCATION:Göteborgs Kickboxningsklubb\, Södra Gubberogatan 8\, Göteborg\, Sverige
ATTACH;FMTTYPE=image/jpeg:https://swekickboxing.se/wp-content/uploads/2024/08/e475b0b9-2879-45c2-a745-fae59f80ed23-1.jpg
END:VEVENT
BEGIN:VEVENT
DTSTART;TZID=Europe/Stockholm:20250328T180000
DTEND;TZID=Europe/Stockholm:20250328T210000
DTSTAMP:20260426T045936
CREATED:20250223T184841Z
LAST-MODIFIED:20250223T184841Z
UID:8034-1743184800-1743195600@swekickboxing.se
SUMMARY:Poängdomarutbildning
DESCRIPTION:Datum:\nFredagen den 28 mars\n\n\nTid:\n18\,00-20\,45 (cirka)\n\n\nAdress:\nSödra gubbergatan 8\, 416 63 Göteborg (Göteborgs Kickboxningsklubb)\n\n\nKostnad:\n300 kr per person\n\n\nSista anmälan:\nMåndagen den 24 mars kl.20.00\n\n\n\n  \n_Inbjudan_Poängdomarutbildning_250328
URL:https://swekickboxing.se/kalender/poangdomarutbildning/
LOCATION:Göteborgs Kickboxningsklubb\, Södra Gubberogatan 8\, Göteborg\, Sverige
END:VEVENT
BEGIN:VEVENT
DTSTART;TZID=Europe/Stockholm:20250322T093000
DTEND;TZID=Europe/Stockholm:20250322T120000
DTSTAMP:20260426T045936
CREATED:20250112T190211Z
LAST-MODIFIED:20250316T185536Z
UID:7937-1742635800-1742644800@swekickboxing.se
SUMMARY:Årsmöte 2025
DESCRIPTION:Kallense till årsstämma för verksamhetsåret 2024 \nDagordning-2025\nProposition 2025 godkännande av SKF Strategi 2030\nProposition 2025 uppdatering av förbundets stadgar\nProposition 2025 ändring av förbundets namn hos Skatteverket\nSKF förbundsstrategi för kickboxning 2030\nSKF Förvaltningsberättelse 2024\nSKF Verksamhetsberättelse 2024\nSKF Verksamhetsplan 2025\nFullmakt-årsmote-2025\nFörslag till Styrelse 2025\nSKF stadgar 180408 rev 2025 v2
URL:https://swekickboxing.se/kalender/arsmote-2025/
LOCATION:Hammarkullehallen\, Hammarkullegatan 7\, Angered\, 42437\, Sverige
ATTACH;FMTTYPE=image/png:https://swekickboxing.se/wp-content/uploads/2025/01/Arsmote-kickboxning-.png
END:VEVENT
BEGIN:VEVENT
DTSTART;TZID=Europe/Stockholm:20250322T080000
DTEND;TZID=Europe/Stockholm:20250322T170000
DTSTAMP:20260426T045936
CREATED:20250212T190917Z
LAST-MODIFIED:20250223T183343Z
UID:8016-1742630400-1742662800@swekickboxing.se
SUMMARY:Rookie Rumble
DESCRIPTION:Rookie rumble är Sveriges största nybörjartävling i kickboxning och anordnas av Göteborgs Kickboxning.Någon gång tar man som aktiv steget från träning till tävling. Första tävlingen är alltid speciell och på Rookie ligger fokus på de fighters som går sin allra första match eller han väldigt liten tävlingserfarenhet.Tävlingen är otroligt uppskattad och det brukar bli runt 80-100 matcher på 3 ytor.\nTränat ett tag och vill testa att tävla mot någon på samma nivå? Då är det Rookie som gäller!\nInvägning 08:00-09:30Coachmöte: 10:45Matchstart: 11:30 \n250322_Tävlingsinbjudan_RR_250322
URL:https://swekickboxing.se/kalender/rookie-rumble-2/
LOCATION:Hammarkullehallen\, Hammarkullegatan 7\, Angered\, 42437\, Sverige
ATTACH;FMTTYPE=image/jpeg:https://swekickboxing.se/wp-content/uploads/2025/02/Rookie-Rmble.jpg
ORGANIZER;CN="G%C3%B6teborgs Kickboxningsklubb":MAILTO:info@goteborgskickboxning.se
END:VEVENT
BEGIN:VEVENT
DTSTART;TZID=Europe/Stockholm:20250315T080000
DTEND;TZID=Europe/Stockholm:20250315T170000
DTSTAMP:20260426T045936
CREATED:20241028T174426Z
LAST-MODIFIED:20250112T190832Z
UID:7875-1742025600-1742058000@swekickboxing.se
SUMMARY:Palmslaget 2
DESCRIPTION:Tävlingsnamn:\nPalmslaget # 2\n\n\nTyp av tävling:\nFörbestämda matcher  K1\, LK\, K1 Junior\, LK Junior\,LC\, KL\, Kick-light Barn/Ungdom\n\n\nDatum:\n2025-03-15\n\n\nTider för invägning:\n08.00-09.00\n\n\nCoachmöte:\n10.30\n\n\nMatchstart:\n11.00\n\n\nSista anmälan:\n2025-03-08\, 12:00\n\n\n\n250315_Tävlingsinbjudan-anmälan_Palmslaget 2_United Fighters IF
URL:https://swekickboxing.se/kalender/palmslaget-2/
LOCATION:United Fighters\, Maskingatan 27\, Trelleborg\, Skåne\, 23166
ATTACH;FMTTYPE=image/png:https://swekickboxing.se/wp-content/uploads/2024/10/pALMSLAGET-2.png
END:VEVENT
BEGIN:VEVENT
DTSTART;TZID=Europe/Stockholm:20250305T080000
DTEND;TZID=Europe/Stockholm:20250309T190000
DTSTAMP:20260426T045936
CREATED:20250212T185146Z
LAST-MODIFIED:20250212T185234Z
UID:8008-1741161600-1741546800@swekickboxing.se
SUMMARY:Italian World Cup
DESCRIPTION:Official Invitation to the Italian Kickboxing World Cup 2025
URL:https://swekickboxing.se/kalender/italian-world-cup/
LOCATION:Jesolo\, Italien
ATTACH;FMTTYPE=image/jpeg:https://swekickboxing.se/wp-content/uploads/2025/02/Italian-World-Cup.jpg
END:VEVENT
BEGIN:VEVENT
DTSTART;TZID=Europe/Stockholm:20250301T080000
DTEND;TZID=Europe/Stockholm:20250301T170000
DTSTAMP:20260426T045936
CREATED:20241028T175430Z
LAST-MODIFIED:20250212T184122Z
UID:7884-1740816000-1740848400@swekickboxing.se
SUMMARY:Skurup Brawl 14
DESCRIPTION:Tävlingsnamn: SKURUP BRAWL 14\nTyp av tävling: Amatörtävling K1\, LK\, KL och K1J\, LKJ\, KLB\, KLU.\nDatum: 2025-03-01\nTider för invägning: kl 09:00-10:30\nCoachmöte: kl 11:00\nMatchstart: kl 11:30\nSista anmälan: 2025-02-23 kl 18:00 \n250301_Tävlingsinbjudan SKURUP BRAWL 14
URL:https://swekickboxing.se/kalender/skurup-brawl-14/
LOCATION:Skurups Kick och Boxningsklubb\, Norra Industrigatan 5\, Skurup\, 27430\, Sverige
ORGANIZER;CN="Skurups Kick och Boxningsklubb":MAILTO:terriern.ljungdahl@yahoo.se
END:VEVENT
BEGIN:VEVENT
DTSTART;TZID=Europe/Stockholm:20250208T080000
DTEND;TZID=Europe/Stockholm:20250209T170000
DTSTAMP:20260426T045936
CREATED:20250112T175445Z
LAST-MODIFIED:20250112T180628Z
UID:7933-1739001600-1739120400@swekickboxing.se
SUMMARY:Öppet landslagsläger 8-9/2 2025
DESCRIPTION:Landslagsledningen bjuder in till ett öppet läger under två dagar för dig som har ambitionen och viljan att bli en del av årets landslag.\nLägret kommer att utgöra grunden för uttagning till kommande läger under året och kan även leda till ett eventuellt deltagande vid VM i Abu Dhabi i november. \nLägret är indelat i två sektioner: \n\nLördagens pass fokuserar på teknik och drillar.\nSöndagens pass består av sparring.\n\n  \nUpplägg för helgen:\nLördag 8/2 \n\nTeknikpass 1: 13.00–14.30\nTeknikpass 2: 16.00–17.30\n\nSöndag 9/2 \n\nSparringpass: 12.00–14.00\nUppsamling och korta individuella samtal om målsättningar\, årsplanering m.m.\n\nVarmt välkommen att delta och visa din potential! \n  \nAnmälan sker till coach@swekickboxing.se \n  \nLägret kommer att hållas i Skurup i deras lokal\, Norra Industrigatan 5\, 27430\, Skurup \n  \nMvh \nSabrina\, Sami och Fredrik
URL:https://swekickboxing.se/kalender/oppet-landslagslager-8-9-2-2025/
LOCATION:Skurups Kick och Boxningsklubb\, Norra Industrigatan 5\, Skurup\, 27430\, Sverige
ATTACH;FMTTYPE=image/jpeg:https://swekickboxing.se/wp-content/uploads/2025/01/Lager.jpg
END:VEVENT
BEGIN:VEVENT
DTSTART;TZID=Europe/Stockholm:20250208T080000
DTEND;TZID=Europe/Stockholm:20250208T170000
DTSTAMP:20260426T045936
CREATED:20241028T175244Z
LAST-MODIFIED:20250112T191052Z
UID:7882-1739001600-1739034000@swekickboxing.se
SUMMARY:Fight 90-Kickboxning
DESCRIPTION:Tävlingsnamn:\nFIGHT 90-KICKBOXNING\n\n\nTyp av tävling:\nK1\, LOW KICK (LK)\, KICK LIGHT (KL)\, KICK LIGHT UNGDOM (KLU)\n\n\n\nKICK LIGHT BARN (KLB)\n\n\n\nDatum:\n2025-02-08\n\n\nTider för invägning:\n07\,45-09\,15\n\n\nCoachmöte:\n11.00\n\n\nMatchstart:\n11.30\n\n\nSista anmälan:\n2025-02-01  kl.16.00\n\n\n\n250208_Fight90-Kickboxning_Inbjudan \n250208_Fight90-Kickboxning_Affisch
URL:https://swekickboxing.se/kalender/fight-90-kickboxning/
LOCATION:Fight Club Ängelholm\, Metallgatan 10\, Ängeleholm\, 26272\, Sverige
ATTACH;FMTTYPE=application/pdf:https://swekickboxing.se/wp-content/uploads/2024/10/250208_Fight90-Kickboxning_Affisch-1.pdf
ORGANIZER;CN="Fight Club %C3%84ngelholm":MAILTO:info@fightclub-angelholm.se
END:VEVENT
BEGIN:VEVENT
DTSTART;TZID=Europe/Stockholm:20250201T083000
DTEND;TZID=Europe/Stockholm:20250201T170000
DTSTAMP:20260426T045936
CREATED:20250112T172404Z
LAST-MODIFIED:20250112T190306Z
UID:7925-1738398600-1738429200@swekickboxing.se
SUMMARY:Kennel Kick 3
DESCRIPTION:Tävlingsnamn:\nKennel Kick 3\n\n\nTyp av tävling:\nAmatörtävling K1\, LK\, KL och K1J\, LKJ\, KLB\, KLU.\n\n\nDatum:\n2025-02-01\n\n\nTider för invägning:\n8:30-9:30\n\n\nCoachmöte:\nca 9:30\n\n\nMatchstart:\nca 10:00\n\n\nSista anmälan:\n2025-01-25 klockan 13:00\n\n\n\n250201_Kennel Kick 3_Bulldog Training Center IF_Tävlingsinbjudan
URL:https://swekickboxing.se/kalender/kennel-kick-3/
LOCATION:Bulldog Training Center IF\, Östra Sörredsvägen 2\, Göteborg\, 41878\, Sweden
ATTACH;FMTTYPE=image/jpeg:https://swekickboxing.se/wp-content/uploads/2025/01/Kennel-Kick-3.jpg
END:VEVENT
BEGIN:VEVENT
DTSTART;TZID=Europe/Stockholm:20250131T170000
DTEND;TZID=Europe/Stockholm:20250201T170000
DTSTAMP:20260426T045936
CREATED:20250112T173658Z
LAST-MODIFIED:20250121T203819Z
UID:7928-1738342800-1738429200@swekickboxing.se
SUMMARY:Danish Open 2025
DESCRIPTION:  \n\nDanish Open är en utmärkt möjlighet för dig som kickboxare att både samla internationell erfarenhet och kvalificera dig till Svenska Mästerskapen. Tävlingen erbjuder en chans att möta starka motståndare från andra länder och samtidigt representera Sverige på den internationella arenan. Danish Open är en stor skandinavisk tävling som är och en viktig del av WAKO:s internationella tävlingskalender.\n\n\nFör att kunna tävla internationellt inom kickboxning där WAKO är ett vanligt förbund\, så krävs både ett internationellt läkarintyg och ett giltigt Rsportz kort. \n\n\n\nViktiga datum att komma ihåg\n• Sista anmälningsdag: 2025-01-25 via Rsportz\n• Invägning: 2025-01-31 mellan 17.00-21.00\n• Tävling: 2025-02-01 Nørresundby\, SKANSEN \n\n\n\nFör mer information kring evenemanget hittar du på Danish Open 2025 | Facebook
URL:https://swekickboxing.se/kalender/danish-open-2025/
LOCATION:Danmark\, Lerumbakken 11\, Nørresundby\,\, 9400\, Denmark
ATTACH;FMTTYPE=image/jpeg:https://swekickboxing.se/wp-content/uploads/2025/01/453530730_1089260896005357_8314220189745398173_n.jpg
END:VEVENT
BEGIN:VEVENT
DTSTART;TZID=Europe/Stockholm:20241214T170000
DTEND;TZID=Europe/Stockholm:20241214T220000
DTSTAMP:20260426T045936
CREATED:20240730T200509Z
LAST-MODIFIED:20240730T201056Z
UID:7805-1734195600-1734213600@swekickboxing.se
SUMMARY:Parken Fight Night - Lucia Edition
DESCRIPTION:Parken Fight Night – Lucia Edition \nOBS! PRO-GALA \nMer information kommer inom kort
URL:https://swekickboxing.se/kalender/parken-fight-night-lucia-edition/
LOCATION:Skurups folkets hus & park\, Per Henriksgatan 2\, Skurup\, 274 32\, Sverige
ORGANIZER;CN="Skurups Kick och Boxningsklubb":MAILTO:terriern.ljungdahl@yahoo.se
END:VEVENT
BEGIN:VEVENT
DTSTART;TZID=Europe/Stockholm:20241130T110000
DTEND;TZID=Europe/Stockholm:20241130T160000
DTSTAMP:20260426T045936
CREATED:20240730T200350Z
LAST-MODIFIED:20241028T174234Z
UID:7803-1732964400-1732982400@swekickboxing.se
SUMMARY:Wetterslaget # 3
DESCRIPTION:Tävlingsnamn:\nWetterslaget # 3\n\n\nTyp av tävling:\nFörbestämda matcher  K1\, LK\, K1 Junior\, LK Junior\,LC\, KL\, Kick-light Barn/Ungdom\n\n\nDatum:\n2024-11-30\n\n\nTider för invägning:\n08.30-10.00\n\n\nCoachmöte:\n10.30\n\n\nMatchstart:\n11.00\n\n\nSista anmälan:\n2024-11-24  kl.23.59\n\n\n\nWetterslaget # 3 \nTävlingsinbjudan_Wetterslaget # 3 _20241130 \n 
URL:https://swekickboxing.se/kalender/wetterslaget-3/
LOCATION:Jönköpings Kickboxningsklubb\, Sankt Göransvägen 31\, Jönköping\, 554 54\, Sverige
ATTACH;FMTTYPE=application/pdf:https://swekickboxing.se/wp-content/uploads/2024/07/Wetterslaget-3-1.pdf
ORGANIZER;CN="J%C3%B6nk%C3%B6pings Kickboxningsklubb":MAILTO:tavling.jkbk@gmail.com
END:VEVENT
BEGIN:VEVENT
DTSTART;TZID=Europe/Stockholm:20241123T130000
DTEND;TZID=Europe/Stockholm:20241123T170000
DTSTAMP:20260426T045936
CREATED:20241006T145442Z
LAST-MODIFIED:20241006T145442Z
UID:7856-1732366800-1732381200@swekickboxing.se
SUMMARY:Mästargradering i Göteborg
DESCRIPTION:Vi bjuder in alla kickboxningsentusiaster till Svenska Kickboxningsförbundets mästargradering i Göteborg den 23 november 2024! \nDetta är en fantastisk chans för avancerade utövare att visa upp sina färdigheter och få erkännande för sitt hårda arbete. Graderingen testar teknisk skicklighet\, uthållighet\, teoretiska kunskaper och mental styrka. \nVi uppmuntrar alla klubbar att skicka sina bästa aspiranter\, även om ni inte har ett eget graderingssystem. \nMer information och anmälan hittar ni här:\n[Graderingskrav och anmälan]\nMästargradering 2024-11-23 ansökan högre dan
URL:https://swekickboxing.se/kalender/mastargradering-i-goteborg/
LOCATION:Göteborgs Kickboxningsklubb\, Södra Gubberogatan 8\, Göteborg\, Sverige
END:VEVENT
BEGIN:VEVENT
DTSTART;TZID=Europe/Stockholm:20241116T080000
DTEND;TZID=Europe/Stockholm:20241116T170000
DTSTAMP:20260426T045936
CREATED:20241028T175051Z
LAST-MODIFIED:20241028T175134Z
UID:7879-1731744000-1731776400@swekickboxing.se
SUMMARY:Fighters Open 7
DESCRIPTION:Tävlingsnamn:\nFighters Open 7\n\n\nTyp av tävling:\nK1\, LK\, KL\, JK\n\n\nDatum:\n2024-11-16\n\n\nTider för invägning:\n09:00-10:00\n\n\nCoachmöte:\n11:30\n\n\nMatchstart:\n12:00\n\n\nSista anmälan:\n2024-11-09\n\n\n\n  \nTävlingsinbjudan_241116_Fighters open 7
URL:https://swekickboxing.se/kalender/fighters-open-7/
LOCATION:Stockholms Kickboxningsklubb\, Gästrikegatan 11\, Stockholm\, Stockholm\, 11323
ORGANIZER;CN="Stockholms Kickboxningsklubb":MAILTO:info@kickboxning.se
END:VEVENT
BEGIN:VEVENT
DTSTART;TZID=Europe/Stockholm:20241026T080000
DTEND;TZID=Europe/Stockholm:20241026T170000
DTSTAMP:20260426T045936
CREATED:20240730T200235Z
LAST-MODIFIED:20241006T143743Z
UID:7801-1729929600-1729962000@swekickboxing.se
SUMMARY:Grästorps Höstfight
DESCRIPTION:Grästorps Höstfight \nTyp av tävling: ”K1\, Low Kick\, K1 Junior\, Low Kick Junior\, Full Contact\, Kick Light\, Light Contact\,\nKick Light Barn / Ungdom\, Light Contact Barn / Ungdom”\nDatum: 2024-10-26\nTider för invägning: 08:00-09:30\nCoachmöte: 11:30\nMatchstart: 12:00\nSista anmälan: 2024-10-12 kl.23:59 \nTävlingsinbjudan Grästorps Höstfight 241026 \n 
URL:https://swekickboxing.se/kalender/grastorps-hostfight/
LOCATION:Grästorps Kampsportsförening\, Södergatan 37\, Grästorp\, 46730\, Sverige
ORGANIZER;CN="Gr%C3%A4storps Kampsportsf%C3%B6rening":MAILTO:info@grastorpkampsport.se
END:VEVENT
BEGIN:VEVENT
DTSTART;TZID=Europe/Stockholm:20241019T080000
DTEND;TZID=Europe/Stockholm:20241019T170000
DTSTAMP:20260426T045936
CREATED:20240730T200101Z
LAST-MODIFIED:20240730T200101Z
UID:7796-1729324800-1729357200@swekickboxing.se
SUMMARY:Fight 89-Kickboxning
DESCRIPTION:Tävlingsnamn:\nFIGHT 89-KICKBOXNING\n\n\nTyp av tävling:\nK1\, Low Kick\, K1 Junior\, Low Kick Junior\, Kick-Light\, Kick-light Barn/Ungdom\n\n\nDatum:\n2024-10-19\n\n\nTider för invägning:\n07\,45-09\,15\n\n\nCoachmöte:\n11.00\n\n\nMatchstart:\n11.30\n\n\nSista anmälan:\n2024-10-12  kl.16.00\n\n\n\n241019_Fight89-Kickboxning_Affisch \nTävlingsinbjudan_Fight89-Kickboxnihng_241019 \n  \n 
URL:https://swekickboxing.se/kalender/fight-89-kickboxning/
LOCATION:Fight Club Ängelholm\, Metallgatan 10\, Ängeleholm\, 26272\, Sverige
ORGANIZER;CN="Fight Club %C3%84ngelholm":MAILTO:info@fightclub-angelholm.se
END:VEVENT
BEGIN:VEVENT
DTSTART;TZID=Europe/Stockholm:20240928T080000
DTEND;TZID=Europe/Stockholm:20240928T170000
DTSTAMP:20260426T045936
CREATED:20240730T195559Z
LAST-MODIFIED:20240810T092200Z
UID:7794-1727510400-1727542800@swekickboxing.se
SUMMARY:Basement Battle # 6
DESCRIPTION:Tävlingsinbjudan_Basement Battle#6 \n 
URL:https://swekickboxing.se/kalender/basement-battle-6/
LOCATION:Fighter Centre IF\, Viktoriagatan 19\, Göteborg\, Göteborg\, 41125\, Sverige
END:VEVENT
BEGIN:VEVENT
DTSTART;TZID=Europe/Stockholm:20240831T080000
DTEND;TZID=Europe/Stockholm:20240831T170000
DTSTAMP:20260426T045936
CREATED:20240730T195428Z
LAST-MODIFIED:20240810T092102Z
UID:7792-1725091200-1725123600@swekickboxing.se
SUMMARY:Skurup Brawl 13
DESCRIPTION:Skurup Brawl 13 \nTävlingsinbjudan Skurup Brawl 13 \n\n\n\nOBS!\nFör att delta på en tävling som är sanktionerad av Svenska Kickboxningsförbundet (SKF) så måste den tävlande tillhöra en klubb som är medlem i SKF samt uppvisa ett giltigt tävlingskort-ID som är utfärdat av Svenska Budo & Kampsportsförbundet.\n\n\nVarje tävlande från Sverige måste vara registrerad RSportz och kunna uppvisa ett giltigt ID-kort utfärdat av RSportz för att delta på tävlingen (detta krav börjar gälla fr.o.m. 2023-09-01 för alla tävlingar som är sanktionerade av Svenska Kickboxningsförbundet).
URL:https://swekickboxing.se/kalender/skurup-brawl-13/
LOCATION:Skurups Kick och Boxningsklubb\, Norra Industrigatan 5\, Skurup\, 27430\, Sverige
ORGANIZER;CN="Skurups Kick och Boxningsklubb":MAILTO:bjorn@skbklubb.se
END:VEVENT
BEGIN:VEVENT
DTSTART;TZID=Europe/Stockholm:20240601T080000
DTEND;TZID=Europe/Stockholm:20240601T170000
DTSTAMP:20260426T045936
CREATED:20240218T180152Z
LAST-MODIFIED:20240218T180439Z
UID:7689-1717228800-1717261200@swekickboxing.se
SUMMARY:Basement Battle # 5
DESCRIPTION:Basement Battle # 5 \nInbjudan kommer inom kort att mailas ut till alla klubbar som är medlemmar i Svenska Kickboxningsförbundet.\n\n\nOBS!\nFör att delta på en tävling som är sanktionerad av Svenska Kickboxningsförbundet (SKF) så måste den tävlande tillhöra en klubb som är medlem i SKF samt uppvisa ett giltigt tävlingskort som är utfärdat av Svenska Budo & Kampsportsförbundet.\n\n\nVarje tävlande måste vara registrerad RSportz och kunna uppvisa ett giltigt ID-kort utfärdat av RSportz för att delta på tävlingen (detta krav börjar gälla fr.o.m. 2023-09-01 för alla tävlingar som är sanktionerade av Svenska Kickboxningsförbundet).\n\n\nNYHET: På denna tävling gäller det nya regelverket!
URL:https://swekickboxing.se/kalender/basement-battle-5-2/
LOCATION:Fighter Centre IF\, Viktoriagatan 19\, Göteborg\, Göteborg\, 41125\, Sverige
END:VEVENT
BEGIN:VEVENT
DTSTART;TZID=Europe/Stockholm:20240525T180000
DTEND;TZID=Europe/Stockholm:20240525T210000
DTSTAMP:20260426T045936
CREATED:20240218T174730Z
LAST-MODIFIED:20240218T181630Z
UID:7682-1716660000-1716670800@swekickboxing.se
SUMMARY:Parken Fight Night
DESCRIPTION:Parken Fight Night\nOBS! PRO-REGLER \nParken Fight Night – K1 proffsgala \nDen 25 maj arrangeras det en K1 proffsgala i Skurups Folkets park av Skurups Kick & Boxningsklubb. \nDet kommer bjudas på 6-8 K1-matcher under svenskt proffsregelverk. \nFullständiga öl och rättigheter finnes samt tillgång till pubmeny. \nFör mer info kontakta arrangör. \n \nBiljetter kan köpas här
URL:https://swekickboxing.se/kalender/parken-fight-night/
LOCATION:Skurups folkets hus & park\, Per Henriksgatan 2\, Skurup\, 274 32\, Sverige
ORGANIZER;CN="Skurups Kick och Boxningsklubb":MAILTO:bjorn@skbklubb.se
END:VEVENT
BEGIN:VEVENT
DTSTART;TZID=Europe/Stockholm:20240504T080000
DTEND;TZID=Europe/Stockholm:20240504T170000
DTSTAMP:20260426T045936
CREATED:20231230T125906Z
LAST-MODIFIED:20231230T125906Z
UID:7650-1714809600-1714842000@swekickboxing.se
SUMMARY:Svenska Mästerskapen i Kickboxning i Stockholm
DESCRIPTION:Mer info kring lokaler och praktiska detaljer kommer att publiceras längre fram. \n  \nMer info här – SM 2024- \nhttps://www.facebook.com/groups/353739599721351
URL:https://swekickboxing.se/kalender/svenska-masterskapen-i-kickboxning-i-stockholm/
LOCATION:Stockholms Kickboxningsklubb\, Gästrikegatan 11\, Stockholm\, Stockholm\, 11323
ORGANIZER;CN="Stockholm Kickboxningsklubb":MAILTO:johan@kickboxning.se
END:VEVENT
BEGIN:VEVENT
DTSTART;TZID=Europe/Stockholm:20240414T080000
DTEND;TZID=Europe/Stockholm:20240414T170000
DTSTAMP:20260426T045936
CREATED:20240218T174337Z
LAST-MODIFIED:20240304T191104Z
UID:7680-1713081600-1713114000@swekickboxing.se
SUMMARY:Kennel Kick 2
DESCRIPTION:Kennel Kick 2\nInbjudning_anmälan_Kennel Kick 2_240414 \n\nInbjudan kommer inom kort att mailas ut till alla klubbar som är medlemmar i Svenska Kickboxningsförbundet.\n\n\nOBS!\nFör att delta på en tävling som är sanktionerad av Svenska Kickboxningsförbundet (SKF) så måste den tävlande tillhöra en klubb som är medlem i SKF samt uppvisa ett giltigt tävlingskort som är utfärdat av Svenska Budo & Kampsportsförbundet.\n\n\nVarje tävlande måste vara registrerad RSportz och kunna uppvisa ett giltigt ID-kort utfärdat av RSportz för att delta på tävlingen (detta krav börjar gälla fr.o.m. 2023-09-01 för alla tävlingar som är sanktionerade av Svenska Kickboxningsförbundet).\n\n\nNYHET: På denna tävling gäller det nya regelverket!
URL:https://swekickboxing.se/kalender/kennel-kick-2/
LOCATION:Bulldog Training Center IF\, Östra Sörredsvägen 2\, Göteborg\, 41878\, Sweden
ORGANIZER;CN="Bulldog Training Center IF":MAILTO:bulldogtrainingcenter@gmail.com
END:VEVENT
END:VCALENDAR