BEGIN:VCALENDAR
VERSION:2.0
PRODID:-//Svenska Kickboxningsförbundet - ECPv6.7.1//NONSGML v1.0//EN
CALSCALE:GREGORIAN
METHOD:PUBLISH
X-WR-CALNAME:Svenska Kickboxningsförbundet
X-ORIGINAL-URL:https://swekickboxing.se
X-WR-CALDESC:Events for Svenska Kickboxningsförbundet
REFRESH-INTERVAL;VALUE=DURATION:PT1H
X-Robots-Tag:noindex
X-PUBLISHED-TTL:PT1H
BEGIN:VTIMEZONE
TZID:Europe/Stockholm
BEGIN:DAYLIGHT
TZOFFSETFROM:+0100
TZOFFSETTO:+0200
TZNAME:CEST
DTSTART:20230326T010000
END:DAYLIGHT
BEGIN:STANDARD
TZOFFSETFROM:+0200
TZOFFSETTO:+0100
TZNAME:CET
DTSTART:20231029T010000
END:STANDARD
END:VTIMEZONE
BEGIN:VEVENT
DTSTART;TZID=Europe/Stockholm:20230205T080000
DTEND;TZID=Europe/Stockholm:20230205T160000
DTSTAMP:20260426T063556
CREATED:20221229T145134Z
LAST-MODIFIED:20221229T145134Z
UID:7231-1675584000-1675612800@swekickboxing.se
SUMMARY:Skurup Brawl 8
DESCRIPTION:K1-matcher/Low Kick-matcher/Kick-Light/Junior-matcher/turnering \nMer info i bifogad tävlingsinbjudan. \nTävlingsinbjudan_SKF_230205
URL:https://swekickboxing.se/kalender/skurup-brawl-8/
LOCATION:Skurups Kick och Boxningsklubb\, Norra Industrigatan 5\, Skurup\, 27430\, Sverige
ORGANIZER;CN="Skurups Kick och Boxningsklubb":MAILTO:terriern.ljungdahl@yahoo.se
END:VEVENT
BEGIN:VEVENT
DTSTART;TZID=Europe/Stockholm:20230128T130000
DTEND;TZID=Europe/Stockholm:20230128T180000
DTSTAMP:20260426T063556
CREATED:20221229T144517Z
LAST-MODIFIED:20221229T144517Z
UID:7222-1674910800-1674928800@swekickboxing.se
SUMMARY:Stadion Kickboxing Tournament 1 i Stockholm
DESCRIPTION:K1-matcher/turnering\, Low Kick-matcher\, Kick Light-matcher \nMer detaljer i tävlingsinbjudan som är bifogad nedan. \nTävlingsinbjudan_SKF_230128
URL:https://swekickboxing.se/kalender/stadion-kickboxing-tournament-1-i-stockholm/
LOCATION:Lidingövägen 1\, Lidingövägen 1\, Klocktornet\, Stockholm\, 11433
ORGANIZER;CN="Stockholm Stadion":MAILTO:bjorn@skbklubb.se
END:VEVENT
BEGIN:VEVENT
DTSTART;TZID=Europe/Stockholm:20230128T074500
DTEND;TZID=Europe/Stockholm:20230128T180000
DTSTAMP:20260426T063556
CREATED:20221229T143608Z
LAST-MODIFIED:20221229T143608Z
UID:7218-1674891900-1674928800@swekickboxing.se
SUMMARY:FIGHT 83 i Ängelholm
DESCRIPTION:Tävlingsnamn: \n\nFIGHT 83-KICKBOXNING\n\n\n\nTyp av tävling: \n\nK1-matcher / Low Kick-matcher / Kick-Light / Junior – matcher / turnering\n\n\n\nDatum: \n\n2023-01-28\n\n\n\nTider för invägning: \n\n07.45-09.15\n\n\n\nCoachmöte: \n\n11.00\n\n\n\nMatchstart: \n\n11.30\n\n\n\nSista anmälan: \n\n2023-01-21  kl.18.00\n\n\n\n  \nTävlingsinbjudan_Fight 83-Kickboxning_230128 \n230128_Fight83-Kickboxning_Affisch
URL:https://swekickboxing.se/kalender/fight-83-i-angelholm/
LOCATION:Fight Club Ängelholm\, Metallgatan 10\, Ängeleholm\, 26272\, Sverige
ORGANIZER;CN="Fight Club %C3%84ngelholm":MAILTO:info@fightclub-angelholm.se
END:VEVENT
END:VCALENDAR