BEGIN:VCALENDAR
VERSION:2.0
PRODID:-//Svenska Kickboxningsförbundet - ECPv6.7.1//NONSGML v1.0//EN
CALSCALE:GREGORIAN
METHOD:PUBLISH
X-WR-CALNAME:Svenska Kickboxningsförbundet
X-ORIGINAL-URL:https://swekickboxing.se
X-WR-CALDESC:Events for Svenska Kickboxningsförbundet
REFRESH-INTERVAL;VALUE=DURATION:PT1H
X-Robots-Tag:noindex
X-PUBLISHED-TTL:PT1H
BEGIN:VTIMEZONE
TZID:Europe/Stockholm
BEGIN:DAYLIGHT
TZOFFSETFROM:+0100
TZOFFSETTO:+0200
TZNAME:CEST
DTSTART:20250330T010000
END:DAYLIGHT
BEGIN:STANDARD
TZOFFSETFROM:+0200
TZOFFSETTO:+0100
TZNAME:CET
DTSTART:20251026T010000
END:STANDARD
END:VTIMEZONE
BEGIN:VEVENT
DTSTART;TZID=Europe/Stockholm:20251206T083000
DTEND;TZID=Europe/Stockholm:20251206T180000
DTSTAMP:20260426T003757
CREATED:20251020T133004Z
LAST-MODIFIED:20251020T133004Z
UID:8214-1765009800-1765044000@swekickboxing.se
SUMMARY:Wetterslaget # 4
DESCRIPTION:Tävlingsnamn:\nWetterslaget # 4\n\n\nTyp av tävling:\nFörbestämda matcher  K1\, LK\, K1 Junior\, LK Junior\,LC\, KL\, Kick-light Barn/Ungdom\n\n\nDatum:\n2025-12-06\n\n\nTider för invägning:\n08.30-10.00\n\n\nCoachmöte:\n10.30\n\n\nMatchstart:\n11.00\n\n\nSista anmälan:\n2025-11-29 kl 23\,59\n\n\n\nTävlingsinbjudan_Wetterslaget # 4 _20251206
URL:https://swekickboxing.se/kalender/wetterslaget-4/
LOCATION:Jönköpings Kickboxningsklubb\, Sankt Göransvägen 31\, Jönköping\, 554 54\, Sverige
ATTACH;FMTTYPE=image/png:https://swekickboxing.se/wp-content/uploads/2025/10/Gemini_Generated_Image_i66003i66003i660-e1760966984150.png
ORGANIZER;CN="J%C3%B6nk%C3%B6pings Kickboxningsklubb":MAILTO:tavling.jkbk@gmail.com
END:VEVENT
END:VCALENDAR